BEGIN:VCALENDAR
VERSION:2.0
PRODID:-//UWC USA - ECPv6.15.18//NONSGML v1.0//EN
CALSCALE:GREGORIAN
METHOD:PUBLISH
X-WR-CALNAME:UWC USA
X-ORIGINAL-URL:https://www.uwc-usa.org
X-WR-CALDESC:Events for UWC USA
REFRESH-INTERVAL;VALUE=DURATION:PT1H
X-Robots-Tag:noindex
X-PUBLISHED-TTL:PT1H
BEGIN:VTIMEZONE
TZID:America/Denver
BEGIN:DAYLIGHT
TZOFFSETFROM:-0700
TZOFFSETTO:-0600
TZNAME:MDT
DTSTART:20250309T090000
END:DAYLIGHT
BEGIN:STANDARD
TZOFFSETFROM:-0600
TZOFFSETTO:-0700
TZNAME:MST
DTSTART:20251102T080000
END:STANDARD
BEGIN:DAYLIGHT
TZOFFSETFROM:-0700
TZOFFSETTO:-0600
TZNAME:MDT
DTSTART:20260308T090000
END:DAYLIGHT
BEGIN:STANDARD
TZOFFSETFROM:-0600
TZOFFSETTO:-0700
TZNAME:MST
DTSTART:20261101T080000
END:STANDARD
BEGIN:DAYLIGHT
TZOFFSETFROM:-0700
TZOFFSETTO:-0600
TZNAME:MDT
DTSTART:20270314T090000
END:DAYLIGHT
BEGIN:STANDARD
TZOFFSETFROM:-0600
TZOFFSETTO:-0700
TZNAME:MST
DTSTART:20271107T080000
END:STANDARD
END:VTIMEZONE
BEGIN:VEVENT
DTSTART;VALUE=DATE:20260425
DTEND;VALUE=DATE:20260521
DTSTAMP:20260425T043911
CREATED:20251021T083339Z
LAST-MODIFIED:20260326T145948Z
UID:10000497-1777075200-1779321599@www.uwc-usa.org
SUMMARY:IB Exams
DESCRIPTION:
URL:https://www.uwc-usa.org/event/ib-exams/
CATEGORIES:Main,Parent Calendar,Student
ATTACH;FMTTYPE=image/png:https://www.uwc-usa.org/wp-content/uploads/2025/06/placeholder-image-left.png
END:VEVENT
BEGIN:VEVENT
DTSTART;TZID=America/Denver:20260501T080000
DTEND;TZID=America/Denver:20260501T170000
DTSTAMP:20260425T043911
CREATED:20251030T174845Z
LAST-MODIFIED:20251030T174846Z
UID:10000583-1777622400-1777654800@www.uwc-usa.org
SUMMARY:DASS: Entrepreneurship
DESCRIPTION:Date TBD | Entrepreneurship and problem-solving are central to the UWC-USA experience. Students develop skills to collaborate and address challenges through wilderness programs\, cultural events\, and classroom projects. Alumni entrepreneurs will share how their UWC experiences served as a proving ground for ventures that tackle real-world problems\, demonstrating the mission in action.
URL:https://www.uwc-usa.org/event/dass-entrepreneurship/
CATEGORIES:Alumni,Main
ATTACH;FMTTYPE=image/jpeg:https://www.uwc-usa.org/wp-content/uploads/2025/09/usa-2024-jeffrey-newmexico-uwc-1016.jpg
END:VEVENT
END:VCALENDAR