BEGIN:VCALENDAR
VERSION:2.0
PRODID:-//UWC USA - ECPv6.15.18//NONSGML v1.0//EN
CALSCALE:GREGORIAN
METHOD:PUBLISH
X-WR-CALNAME:UWC USA
X-ORIGINAL-URL:https://www.uwc-usa.org
X-WR-CALDESC:Events for UWC USA
REFRESH-INTERVAL;VALUE=DURATION:PT1H
X-Robots-Tag:noindex
X-PUBLISHED-TTL:PT1H
BEGIN:VTIMEZONE
TZID:America/Denver
BEGIN:DAYLIGHT
TZOFFSETFROM:-0700
TZOFFSETTO:-0600
TZNAME:MDT
DTSTART:20250309T090000
END:DAYLIGHT
BEGIN:STANDARD
TZOFFSETFROM:-0600
TZOFFSETTO:-0700
TZNAME:MST
DTSTART:20251102T080000
END:STANDARD
BEGIN:DAYLIGHT
TZOFFSETFROM:-0700
TZOFFSETTO:-0600
TZNAME:MDT
DTSTART:20260308T090000
END:DAYLIGHT
BEGIN:STANDARD
TZOFFSETFROM:-0600
TZOFFSETTO:-0700
TZNAME:MST
DTSTART:20261101T080000
END:STANDARD
BEGIN:DAYLIGHT
TZOFFSETFROM:-0700
TZOFFSETTO:-0600
TZNAME:MDT
DTSTART:20270314T090000
END:DAYLIGHT
BEGIN:STANDARD
TZOFFSETFROM:-0600
TZOFFSETTO:-0700
TZNAME:MST
DTSTART:20271107T080000
END:STANDARD
END:VTIMEZONE
BEGIN:VEVENT
DTSTART;TZID=America/Denver:20260417T160000
DTEND;TZID=America/Denver:20260417T160000
DTSTAMP:20260425T091147
CREATED:20251021T083334Z
LAST-MODIFIED:20251027T110252Z
UID:10000480-1776441600-1776441600@www.uwc-usa.org
SUMMARY:IB IA Upload Deadline
DESCRIPTION:
URL:https://www.uwc-usa.org/event/ib-ia-upload-deadline/
CATEGORIES:Main,Student
END:VEVENT
END:VCALENDAR