BEGIN:VCALENDAR
VERSION:2.0
PRODID:-//UWC USA - ECPv6.15.18//NONSGML v1.0//EN
CALSCALE:GREGORIAN
METHOD:PUBLISH
X-ORIGINAL-URL:https://www.uwc-usa.org
X-WR-CALDESC:Events for UWC USA
REFRESH-INTERVAL;VALUE=DURATION:PT1H
X-Robots-Tag:noindex
X-PUBLISHED-TTL:PT1H
BEGIN:VTIMEZONE
TZID:America/Denver
BEGIN:DAYLIGHT
TZOFFSETFROM:-0700
TZOFFSETTO:-0600
TZNAME:MDT
DTSTART:20250309T090000
END:DAYLIGHT
BEGIN:STANDARD
TZOFFSETFROM:-0600
TZOFFSETTO:-0700
TZNAME:MST
DTSTART:20251102T080000
END:STANDARD
BEGIN:DAYLIGHT
TZOFFSETFROM:-0700
TZOFFSETTO:-0600
TZNAME:MDT
DTSTART:20260308T090000
END:DAYLIGHT
BEGIN:STANDARD
TZOFFSETFROM:-0600
TZOFFSETTO:-0700
TZNAME:MST
DTSTART:20261101T080000
END:STANDARD
BEGIN:DAYLIGHT
TZOFFSETFROM:-0700
TZOFFSETTO:-0600
TZNAME:MDT
DTSTART:20270314T090000
END:DAYLIGHT
BEGIN:STANDARD
TZOFFSETFROM:-0600
TZOFFSETTO:-0700
TZNAME:MST
DTSTART:20271107T080000
END:STANDARD
END:VTIMEZONE
BEGIN:VEVENT
DTSTART;VALUE=DATE:20260404
DTEND;VALUE=DATE:20260406
DTSTAMP:20260423T111237
CREATED:20251021T083322Z
LAST-MODIFIED:20260326T151106Z
UID:10000437-1775260800-1775433599@www.uwc-usa.org
SUMMARY:Wilderness Weekend - Backpacking Overnight
DESCRIPTION:
URL:https://www.uwc-usa.org/event/wilderness-weekend-backpacking-overnight-2/
LOCATION:(off campus)
CATEGORIES:Main,Parent Calendar,Student
ATTACH;FMTTYPE=image/jpeg:https://www.uwc-usa.org/wp-content/uploads/2025/07/ReinisAraks5.jpg
END:VEVENT
BEGIN:VEVENT
DTSTART;VALUE=DATE:20260405
DTEND;VALUE=DATE:20260406
DTSTAMP:20260423T111237
CREATED:20251021T083323Z
LAST-MODIFIED:20251027T105125Z
UID:10000439-1775347200-1775433599@www.uwc-usa.org
SUMMARY:Climbing Day Trip
DESCRIPTION:
URL:https://www.uwc-usa.org/event/climbing-day-trip/
LOCATION:(off campus)
CATEGORIES:Main,Student
ATTACH;FMTTYPE=image/jpeg:https://www.uwc-usa.org/wp-content/uploads/2025/06/f9c65df687cf5527bbfe82d225f34a04dc0fd414.jpg
END:VEVENT
END:VCALENDAR